BEGIN:VCALENDAR
VERSION:2.0
PRODID:-//Plone.org//NONSGML plone.app.event//EN
X-WR-TIMEZONE:Europe/Berlin
BEGIN:VEVENT
SUMMARY:Vorlesungsfreie Zeit
DTSTART;TZID=Europe/Berlin:20230717T170000
DTEND;TZID=Europe/Berlin:20231008T180000
DTSTAMP:20260422T233801Z
UID:0083841195394fb992b74a991108dbdf@www.fsgeod.uni-bonn.de
CREATED:20230404T153233Z
DESCRIPTION:Vom 17.07. bis zum 08.10.2023 ist vorlesungsfreie Zeit. Wir w
 ünschen euch viel Erfolg bei euren Prüfungen
LAST-MODIFIED:20250906T005843Z
URL:https://www.fsgeod.uni-bonn.de/de/veranstaltungen/vorlesungsfreie-zeit
END:VEVENT
BEGIN:VTIMEZONE
TZID:Europe/Berlin
X-LIC-LOCATION:Europe/Berlin
BEGIN:DAYLIGHT
DTSTART:20230326T030000
TZNAME:CEST
TZOFFSETFROM:+0100
TZOFFSETTO:+0200
END:DAYLIGHT
END:VTIMEZONE
END:VCALENDAR
