BEGIN:VCALENDAR
VERSION:2.0
PRODID:-//Plone.org//NONSGML plone.app.event//EN
X-WR-TIMEZONE:Europe/Berlin
BEGIN:VEVENT
SUMMARY:Fachschaftsfahrt 2023
DTSTART;VALUE=DATE:20230623
DTEND;VALUE=DATE:20230626
DTSTAMP:20260421T172433Z
UID:96e98a5827c0457dab54f75fe1b985a2@www.fsgeod.uni-bonn.de
CATEGORIES:Fachschaftsfahrt
CREATED:20230404T152456Z
DESCRIPTION:Die Fachschaft Geodäsie verbringt ein Wochenende zusammen. Hi
 erbei gibt es einen bunten Austausch unter den Studierenden.
LAST-MODIFIED:20250906T005842Z
URL:https://www.fsgeod.uni-bonn.de/de/veranstaltungen/fachschaftsfahrt-202
 3
END:VEVENT
END:VCALENDAR
